BEGIN:VCALENDAR
VERSION:2.0
PRODID:-//Sabre//Sabre VObject 4.5.8//EN
CALSCALE:GREGORIAN
BEGIN:VEVENT
UID:sabre-vobject-4e0011f5-1b28-4a6a-97ea-d103ba51d9d7
DTSTAMP:20260424T123532Z
SUMMARY:Offener Alleinerziehenden-Treff „Starkes Solo“
DESCRIPTION:https://app.neuburg.com/offener-alleinerziehenden-treff-starkes
 -solo_id44230
DTSTART;TZID=Europe/Berlin:20260424T160000
DTEND;TZID=Europe/Berlin:20260424T180000
LOCATION:Bürgerhaus Schwalbanger\, Richard-Wagner-Straße 6\, 86633 Neubur
 g an der Donau
END:VEVENT
END:VCALENDAR
