BEGIN:VCALENDAR
VERSION:2.0
PRODID:-//Sabre//Sabre VObject 4.5.8//EN
CALSCALE:GREGORIAN
BEGIN:VEVENT
UID:sabre-vobject-ad0abbb8-cb0e-49ae-8fb8-dd3af3798a95
DTSTAMP:20260425T004901Z
SUMMARY:NEU! Friedhofsgeschichten
DESCRIPTION:https://app.neuburg.com/neu-friedhofsgeschichten_id44198
DTSTART;TZID=Europe/Berlin:20260621T180000
DTEND;TZID=Europe/Berlin:20260621T193000
LOCATION:Städtischer Friedhof "Alter Friedhof"\, Franziskanerstraße 219\,
  86633 Neuburg an der Donau
END:VEVENT
END:VCALENDAR
