BEGIN:VCALENDAR
VERSION:2.0
PRODID:-//Sabre//Sabre VObject 4.5.8//EN
CALSCALE:GREGORIAN
BEGIN:VEVENT
UID:sabre-vobject-521b086d-7cbf-46b5-91b0-827e899ac056
DTSTAMP:20260424T161538Z
SUMMARY:LinkedIn für Gründer: Sichtbar. Strategisch. Vernetzt. – So nut
 zen Sie LinkedIn erfolgreich
DESCRIPTION:https://app.neuburg.com/linkedin-fuer-gruender-sichtbar-strateg
 isch-vernetzt-so-nutzen-sie-linkedin-erfolgreich_id44175
DTSTART;TZID=Europe/Berlin:20260519T190000
DTEND;TZID=Europe/Berlin:20260519T203000
LOCATION:online
END:VEVENT
END:VCALENDAR
