BEGIN:VCALENDAR
VERSION:2.0
PRODID:-//Sabre//Sabre VObject 4.5.8//EN
CALSCALE:GREGORIAN
BEGIN:VEVENT
UID:sabre-vobject-bcfa6d1c-40ae-4909-9944-f8332b7fde41
DTSTAMP:20260425T003937Z
SUMMARY:Kräuterwanderung "Sommernachtskräuter"
DESCRIPTION:https://app.neuburg.com/kraeuterwanderung-sommernachtskraeuter_
 id44089
DTSTART;TZID=Europe/Berlin:20260620T140000
DTEND;TZID=Europe/Berlin:20260620T180000
LOCATION:Wildpflanzenzauber\, Eulatalstr. 13\, 86633 Neuburg-Bittenbrunn
END:VEVENT
END:VCALENDAR
