BEGIN:VCALENDAR
VERSION:2.0
PRODID:-//Sabre//Sabre VObject 4.5.8//EN
CALSCALE:GREGORIAN
BEGIN:VEVENT
UID:sabre-vobject-84da10ff-711d-4d9e-826e-1fc526612d80
DTSTAMP:20260424T162419Z
SUMMARY:Die kleine Raupe
DESCRIPTION:https://app.neuburg.com/die-kleine-raupe_id44086
DTSTART;TZID=Europe/Berlin:20260517T160000
DTEND;TZID=Europe/Berlin:20260517T164000
LOCATION:Neuburger Marionettentheater\, Amalienstraße 8\, 86633 Neuburg an
  der Donau
END:VEVENT
END:VCALENDAR
