BEGIN:VCALENDAR
VERSION:2.0
PRODID:-//Sabre//Sabre VObject 4.5.8//EN
CALSCALE:GREGORIAN
BEGIN:VEVENT
UID:sabre-vobject-966d6fdc-8326-44f7-b919-6856b00699ea
DTSTAMP:20260425T023930Z
SUMMARY:Rundwanderung Neuer Weg\, Wintershof
DESCRIPTION:https://app.neuburg.com/rundwanderung-neuer-weg-wintershof_id43
 978
DTSTART;TZID=Europe/Berlin:20260728T124500
DURATION:PT30M
END:VEVENT
END:VCALENDAR
