BEGIN:VCALENDAR
VERSION:2.0
PRODID:-//Sabre//Sabre VObject 4.5.8//EN
CALSCALE:GREGORIAN
BEGIN:VEVENT
UID:sabre-vobject-445ee6bb-4ae9-44db-b200-6a8e7b17a226
DTSTAMP:20260424T230948Z
SUMMARY:Rundwanderung über den Dürrenbeg bei Hohenried
DESCRIPTION:https://app.neuburg.com/rundwanderung-ueber-den-duerrenbeg-bei-
 hohenried_id43977
DTSTART;TZID=Europe/Berlin:20260623T124500
DURATION:PT30M
END:VEVENT
END:VCALENDAR
