BEGIN:VCALENDAR
VERSION:2.0
PRODID:-//Sabre//Sabre VObject 4.5.8//EN
CALSCALE:GREGORIAN
BEGIN:VEVENT
UID:sabre-vobject-b826047a-1e25-4321-82d4-ebe870187021
DTSTAMP:20260424T193520Z
SUMMARY:Rundwanderung über Gumppenberg zurück nach Pöttmes
DESCRIPTION:https://app.neuburg.com/rundwanderung-ueber-gumppenberg-zurueck
 -nach-poettmes_id43976
DTSTART;TZID=Europe/Berlin:20260526T124500
DURATION:PT30M
END:VEVENT
END:VCALENDAR
