BEGIN:VCALENDAR
VERSION:2.0
PRODID:-//Sabre//Sabre VObject 4.5.8//EN
CALSCALE:GREGORIAN
BEGIN:VEVENT
UID:sabre-vobject-b7543cf7-491f-4808-a8c2-8d2dd5d05e2d
DTSTAMP:20260425T023814Z
SUMMARY:Barock bis Rock 2026
DESCRIPTION:https://app.neuburg.com/barock-bis-rock-2026_id43948
DTSTART;TZID=Europe/Berlin:20260725T193000
DTEND;TZID=Europe/Berlin:20260725T235900
LOCATION:Stadtmuseum Neuburg an der Donau\, Amalienstraße  19\, 86633 Neub
 urg an der Donau
END:VEVENT
END:VCALENDAR
