BEGIN:VCALENDAR
VERSION:2.0
PRODID:-//Sabre//Sabre VObject 4.5.8//EN
CALSCALE:GREGORIAN
BEGIN:VEVENT
UID:sabre-vobject-92955832-6a36-4a34-b764-83abd51da827
DTSTAMP:20260425T004902Z
SUMMARY: Provinzialbibliotheksführung
DESCRIPTION:https://app.neuburg.com/provinzialbibliotheksfuehrung_id43696
DTSTART;TZID=Europe/Berlin:20260701T143000
DTEND;TZID=Europe/Berlin:20260701T151500
LOCATION:Provinzialbibliothek\, Karlsplatz 17\, 86633 Neuburg an der Donau
END:VEVENT
END:VCALENDAR
