BEGIN:VCALENDAR
VERSION:2.0
PRODID:-//Sabre//Sabre VObject 4.5.8//EN
CALSCALE:GREGORIAN
BEGIN:VEVENT
UID:sabre-vobject-10ec86ff-a2e4-4a52-84e6-5294bf388be8
DTSTAMP:20260424T212439Z
SUMMARY: Provinzialbibliotheksführung
DESCRIPTION:https://app.neuburg.com/provinzialbibliotheksfuehrung_id43694
DTSTART;TZID=Europe/Berlin:20260617T143000
DTEND;TZID=Europe/Berlin:20260617T151500
LOCATION:Provinzialbibliothek\, Karlsplatz 17\, 86633 Neuburg an der Donau
END:VEVENT
END:VCALENDAR
