BEGIN:VCALENDAR
VERSION:2.0
PRODID:-//Sabre//Sabre VObject 4.5.8//EN
CALSCALE:GREGORIAN
BEGIN:VEVENT
UID:sabre-vobject-465e6907-e39e-4adc-b3d9-ebf7490e90c4
DTSTAMP:20260424T193607Z
SUMMARY: Provinzialbibliotheksführung
DESCRIPTION:https://app.neuburg.com/provinzialbibliotheksfuehrung_id43692
DTSTART;TZID=Europe/Berlin:20260603T143000
DTEND;TZID=Europe/Berlin:20260603T151500
LOCATION:Provinzialbibliothek\, Karlsplatz 17\, 86633 Neuburg an der Donau
END:VEVENT
END:VCALENDAR
