BEGIN:VCALENDAR
VERSION:2.0
PRODID:-//Sabre//Sabre VObject 4.5.8//EN
CALSCALE:GREGORIAN
BEGIN:VEVENT
UID:sabre-vobject-40439dd6-40e5-4c35-8dee-d64caa06e338
DTSTAMP:20260424T180237Z
SUMMARY: Provinzialbibliotheksführung
DESCRIPTION:https://app.neuburg.com/provinzialbibliotheksfuehrung_id43690
DTSTART;TZID=Europe/Berlin:20260520T143000
DTEND;TZID=Europe/Berlin:20260520T151500
LOCATION:Provinzialbibliothek\, Karlsplatz 17\, 86633 Neuburg an der Donau
END:VEVENT
END:VCALENDAR
