BEGIN:VCALENDAR
VERSION:2.0
PRODID:-//Sabre//Sabre VObject 4.5.8//EN
CALSCALE:GREGORIAN
BEGIN:VEVENT
UID:sabre-vobject-0812f071-0e95-4dd9-8ead-b1c64843eae9
DTSTAMP:20260424T142432Z
SUMMARY: Provinzialbibliotheksführung
DESCRIPTION:https://app.neuburg.com/provinzialbibliotheksfuehrung_id43689
DTSTART;TZID=Europe/Berlin:20260513T143000
DTEND;TZID=Europe/Berlin:20260513T151500
LOCATION:Provinzialbibliothek\, Karlsplatz 17\, 86633 Neuburg an der Donau
END:VEVENT
END:VCALENDAR
