BEGIN:VCALENDAR
VERSION:2.0
PRODID:-//Sabre//Sabre VObject 4.5.8//EN
CALSCALE:GREGORIAN
BEGIN:VEVENT
UID:sabre-vobject-b02d2461-dbca-4ada-8f1b-be3872615728
DTSTAMP:20260425T004901Z
SUMMARY:Von der Alten Kaserne zum neuen Campus
DESCRIPTION:https://app.neuburg.com/von-der-alten-kaserne-zum-neuen-campus_
 id43647
DTSTART;TZID=Europe/Berlin:20260703T170000
DTEND;TZID=Europe/Berlin:20260703T183000
LOCATION:Parkplatz "Landratsamt"\, Platz-der-Deutschen-Einheit 1\, 86633 Ne
 uburg
END:VEVENT
END:VCALENDAR
