BEGIN:VCALENDAR
VERSION:2.0
PRODID:-//Sabre//Sabre VObject 4.5.8//EN
CALSCALE:GREGORIAN
BEGIN:VEVENT
UID:sabre-vobject-c0515c4c-01cb-41ea-9caa-19bf0c2007f5
DTSTAMP:20260424T230916Z
SUMMARY:Auf den Spuren der Kurfürstin-Witwe Maria Leopoldine Rundgang von 
 Stepperg zum Antoniberg - Öffentliche Führung
DESCRIPTION:https://app.neuburg.com/auf-den-spuren-der-kurfuerstin-witwe-ma
 ria-leopoldine-rundgang-von-stepperg-zum-antoniberg-oeffentliche-fuehrung_
 id43502
DTSTART;TZID=Europe/Berlin:20260426T140000
DURATION:PT30M
LOCATION:Kirche St. Michael\, Stepperg\, Am Schloß 6\, 86643 Rennertshofen
END:VEVENT
END:VCALENDAR
