BEGIN:VCALENDAR
VERSION:2.0
PRODID:-//Sabre//Sabre VObject 4.5.8//EN
CALSCALE:GREGORIAN
BEGIN:VEVENT
UID:sabre-vobject-f2970e9e-2656-443e-a77e-fe4a1a0ed39a
DTSTAMP:20260425T023817Z
SUMMARY:Schloss Sandizell mit Asamkirche - Öffentliche Führung
DESCRIPTION:https://app.neuburg.com/schloss-sandizell-mit-asamkirche-oeffen
 tliche-fuehrung_id43500
DTSTART;TZID=Europe/Berlin:20260418T140000
DURATION:PT30M
LOCATION:86529 Schrobenhausen\, Schloss Sandizell\, Schloßstraße 4\, 8652
 9 Schrobenhausen
END:VEVENT
END:VCALENDAR
