BEGIN:VCALENDAR
VERSION:2.0
PRODID:-//Sabre//Sabre VObject 4.5.8//EN
CALSCALE:GREGORIAN
BEGIN:VEVENT
UID:sabre-vobject-6f630e33-5740-41bc-bbd7-9d551c2a9f8a
DTSTAMP:20260424T180247Z
SUMMARY:Stammtisch für pflegende Angehörige
DESCRIPTION:https://app.neuburg.com/stammtisch-fuer-pflegende-angehoerige_i
 d43430
DTSTART;TZID=Europe/Berlin:20260521T150000
DURATION:PT30M
LOCATION:Backhaus Hackner\, Luitpoldstraße C 66\, 86633 Neuburg an der Don
 au
END:VEVENT
END:VCALENDAR
