BEGIN:VCALENDAR
VERSION:2.0
PRODID:-//Sabre//Sabre VObject 4.5.8//EN
CALSCALE:GREGORIAN
BEGIN:VEVENT
UID:sabre-vobject-68974bba-0d4f-43ab-aa73-010c1714a79f
DTSTAMP:20260424T230209Z
SUMMARY:Wochenmarkt
DESCRIPTION:https://app.neuburg.com/wochenmarkt_id43390
DTSTART;TZID=Europe/Berlin:20260620T063000
DTEND;TZID=Europe/Berlin:20260620T123000
LOCATION:Schrannenplatz\, Schrannenplatz\, 86633 Neuburg an der Donau
END:VEVENT
END:VCALENDAR
