BEGIN:VCALENDAR
VERSION:2.0
PRODID:-//Sabre//Sabre VObject 4.5.8//EN
CALSCALE:GREGORIAN
BEGIN:VEVENT
UID:sabre-vobject-07e6c5cc-0b84-49bb-bd19-ca8a880f77fc
DTSTAMP:20260424T123500Z
SUMMARY:Wochenmarkt
DESCRIPTION:https://app.neuburg.com/wochenmarkt_id43383
DTSTART;TZID=Europe/Berlin:20260502T063000
DTEND;TZID=Europe/Berlin:20260502T123000
LOCATION:Schrannenplatz\, Schrannenplatz\, 86633 Neuburg an der Donau
END:VEVENT
END:VCALENDAR
