BEGIN:VCALENDAR
VERSION:2.0
PRODID:-//Sabre//Sabre VObject 4.5.8//EN
CALSCALE:GREGORIAN
BEGIN:VEVENT
UID:sabre-vobject-066cf33d-1b48-4505-b58c-670642c682c0
DTSTAMP:20260425T023815Z
SUMMARY:Wochenmarkt
DESCRIPTION:https://app.neuburg.com/wochenmarkt_id43342
DTSTART;TZID=Europe/Berlin:20260722T063000
DTEND;TZID=Europe/Berlin:20260722T123000
LOCATION:Schrannenplatz\, Schrannenplatz\, 86633 Neuburg an der Donau
END:VEVENT
END:VCALENDAR
