BEGIN:VCALENDAR
VERSION:2.0
PRODID:-//Sabre//Sabre VObject 4.5.8//EN
CALSCALE:GREGORIAN
BEGIN:VEVENT
UID:sabre-vobject-e50f5434-72f9-4736-b4a8-575a3f6cb01e
DTSTAMP:20260425T004940Z
SUMMARY:Wochenmarkt
DESCRIPTION:https://app.neuburg.com/wochenmarkt_id43339
DTSTART;TZID=Europe/Berlin:20260701T063000
DTEND;TZID=Europe/Berlin:20260701T123000
LOCATION:Schrannenplatz\, Schrannenplatz\, 86633 Neuburg an der Donau
END:VEVENT
END:VCALENDAR
