BEGIN:VCALENDAR
VERSION:2.0
PRODID:-//Sabre//Sabre VObject 4.5.8//EN
CALSCALE:GREGORIAN
BEGIN:VEVENT
UID:sabre-vobject-2f9591ae-0e5c-4b9e-9bba-a0c263d04953
DTSTAMP:20260424T212328Z
SUMMARY:Wochenmarkt
DESCRIPTION:https://app.neuburg.com/wochenmarkt_id43334
DTSTART;TZID=Europe/Berlin:20260527T063000
DTEND;TZID=Europe/Berlin:20260527T123000
LOCATION:Schrannenplatz\, Schrannenplatz\, 86633 Neuburg an der Donau
END:VEVENT
END:VCALENDAR
