BEGIN:VCALENDAR
VERSION:2.0
PRODID:-//Sabre//Sabre VObject 4.5.8//EN
CALSCALE:GREGORIAN
BEGIN:VEVENT
UID:sabre-vobject-94eda0a8-ad52-45c3-a5ce-9e1e729ff7a0
DTSTAMP:20260424T161452Z
SUMMARY:Wochenmarkt
DESCRIPTION:https://app.neuburg.com/wochenmarkt_id43333
DTSTART;TZID=Europe/Berlin:20260520T063000
DTEND;TZID=Europe/Berlin:20260520T123000
LOCATION:Schrannenplatz\, Schrannenplatz\, 86633 Neuburg an der Donau
END:VEVENT
END:VCALENDAR
