BEGIN:VCALENDAR
VERSION:2.0
PRODID:-//Sabre//Sabre VObject 4.5.8//EN
CALSCALE:GREGORIAN
BEGIN:VEVENT
UID:sabre-vobject-b85951da-a3e5-4182-b4b8-12da14bea51f
DTSTAMP:20260424T141812Z
SUMMARY:Wochenmarkt
DESCRIPTION:https://app.neuburg.com/wochenmarkt_id43332
DTSTART;TZID=Europe/Berlin:20260513T063000
DTEND;TZID=Europe/Berlin:20260513T123000
LOCATION:Schrannenplatz\, Schrannenplatz\, 86633 Neuburg an der Donau
END:VEVENT
END:VCALENDAR
