BEGIN:VCALENDAR
VERSION:2.0
PRODID:-//Sabre//Sabre VObject 4.5.8//EN
CALSCALE:GREGORIAN
BEGIN:VEVENT
UID:sabre-vobject-a25fd853-c968-49f2-9015-97037fcf3a6a
DTSTAMP:20260424T123031Z
SUMMARY:Wochenmarkt
DESCRIPTION:https://app.neuburg.com/wochenmarkt_id43331
DTSTART;TZID=Europe/Berlin:20260506T063000
DTEND;TZID=Europe/Berlin:20260506T123000
LOCATION:Schrannenplatz\, Schrannenplatz\, 86633 Neuburg an der Donau
END:VEVENT
END:VCALENDAR
