BEGIN:VCALENDAR
VERSION:2.0
PRODID:-//Sabre//Sabre VObject 4.5.8//EN
CALSCALE:GREGORIAN
BEGIN:VEVENT
UID:sabre-vobject-315f01bf-1aa5-457a-9ed2-871f8cc707ac
DTSTAMP:20260425T231714Z
SUMMARY:Wochenmarkt
DESCRIPTION:https://app.neuburg.com/wochenmarkt_id43330
DTSTART;TZID=Europe/Berlin:20260429T063000
DTEND;TZID=Europe/Berlin:20260429T123000
LOCATION:Schrannenplatz\, Schrannenplatz\, 86633 Neuburg an der Donau
END:VEVENT
END:VCALENDAR
