BEGIN:VCALENDAR
VERSION:2.0
PRODID:-//Sabre//Sabre VObject 4.5.8//EN
CALSCALE:GREGORIAN
BEGIN:VEVENT
UID:sabre-vobject-5ef2701f-b9fe-4d9d-b622-539aeb916228
DTSTAMP:20260424T194705Z
SUMMARY:Juliusbräu Brauereifest
DESCRIPTION:https://app.neuburg.com/juliusbraeu-brauereifest_id43212
DTSTART;TZID=Europe/Berlin:20260607T093000
DTEND;TZID=Europe/Berlin:20260607T180000
LOCATION:Juliusbräu\, Augsburger Straße B 135\, 86633 Neuburg an der Dona
 u
END:VEVENT
END:VCALENDAR
