BEGIN:VCALENDAR
VERSION:2.0
PRODID:-//Sabre//Sabre VObject 4.5.8//EN
CALSCALE:GREGORIAN
BEGIN:VEVENT
UID:sabre-vobject-123c0afe-7e5d-44ef-9b02-e53a7d7c7b19
DTSTAMP:20260424T193607Z
SUMMARY:Juliusbräu Brauereifest
DESCRIPTION:https://app.neuburg.com/juliusbraeu-brauereifest_id43207
DTSTART;TZID=Europe/Berlin:20260606T170000
DURATION:PT30M
LOCATION:Juliusbräu\, Augsburger Straße B 135\, 86633 Neuburg an der Dona
 u
END:VEVENT
END:VCALENDAR
