BEGIN:VCALENDAR
VERSION:2.0
PRODID:-//Sabre//Sabre VObject 4.5.8//EN
CALSCALE:GREGORIAN
BEGIN:VEVENT
UID:sabre-vobject-367ee306-01fa-4f2e-af3d-737da749df0c
DTSTAMP:20260425T005456Z
SUMMARY:Stadtführung Schrobenhausen mit Altem Friedhof - Öffentliche Füh
 rung
DESCRIPTION:https://app.neuburg.com/stadtfuehrung-schrobenhausen-mit-altem-
 friedhof-oeffentliche-fuehrung_id43154
DTSTART;TZID=Europe/Berlin:20260419T134500
DURATION:PT30M
LOCATION:86529 Schrobenhausen\, Busbahnhof\, Bürgermeister-Stocker-Ring 47
 \, 86529 Schrobenhausen
END:VEVENT
END:VCALENDAR
