BEGIN:VCALENDAR
VERSION:2.0
PRODID:-//Sabre//Sabre VObject 4.5.8//EN
CALSCALE:GREGORIAN
BEGIN:VEVENT
UID:sabre-vobject-646bebdb-5f52-4f3e-8e6d-eb0f99728376
DTSTAMP:20260425T043742Z
SUMMARY:Tatort Hinterkaifeck - Öffentliche Führung
DESCRIPTION:https://app.neuburg.com/tatort-hinterkaifeck-oeffentliche-fuehr
 ung_id43153
DTSTART;TZID=Europe/Berlin:20260412T174500
DURATION:PT30M
LOCATION:Hinterkaifeck\, \, 86579  Waidhofen
END:VEVENT
END:VCALENDAR
