BEGIN:VCALENDAR
VERSION:2.0
PRODID:-//Sabre//Sabre VObject 4.5.8//EN
CALSCALE:GREGORIAN
BEGIN:VEVENT
UID:sabre-vobject-72731e3e-53c0-4985-befc-b4193b726e6f
DTSTAMP:20260425T112807Z
SUMMARY:Wallfahrtskirche Maria Beinberg - Öffentliche Führung
DESCRIPTION:https://app.neuburg.com/wallfahrtskirche-maria-beinberg-oeffent
 liche-fuehrung_id43147
DTSTART;TZID=Europe/Berlin:20260321T150000
DURATION:PT30M
LOCATION:Wallfahrtskirche Maria Beinberg\, Treffpunkt unten am Parkplatz\, 
 Beinbergstraße 1\, 86565 Gachenbach
END:VEVENT
END:VCALENDAR
