BEGIN:VCALENDAR
VERSION:2.0
PRODID:-//Sabre//Sabre VObject 4.5.8//EN
CALSCALE:GREGORIAN
BEGIN:VEVENT
UID:sabre-vobject-58e9b8e3-9891-419a-b790-2e14f1a7527d
DTSTAMP:20260425T131728Z
SUMMARY:Auwald - Öffentliche Führung
DESCRIPTION:https://app.neuburg.com/auwald-oeffentliche-fuehrung_id43145
DTSTART;TZID=Europe/Berlin:20260314T134500
DURATION:PT30M
LOCATION:86663 Neuburg\, Schloss Grünau\, Treffpunkt Parkplatz Schloss Gr
 ünau ( Kreisverkehr)\, Grünau 1\, 86633 Neuburg an der Donau
END:VEVENT
END:VCALENDAR
