BEGIN:VCALENDAR
VERSION:2.0
PRODID:-//Sabre//Sabre VObject 4.5.8//EN
CALSCALE:GREGORIAN
BEGIN:VEVENT
UID:sabre-vobject-a5b52b62-4b52-43b7-8bd4-3e49760855bf
DTSTAMP:20260425T144828Z
SUMMARY:Stadtführung Schrobenhausen mit Altem Friedhof - Öffentliche Füh
 rung
DESCRIPTION:https://app.neuburg.com/stadtfuehrung-schrobenhausen-mit-altem-
 friedhof-oeffentliche-fuehrung_id43144
DTSTART;TZID=Europe/Berlin:20260308T134500
DURATION:PT30M
LOCATION:86529 Schrobenhausen\, Busbahnhof\, Bürgermeister-Stocker-Ring 47
 \, 86529 Schrobenhausen
END:VEVENT
END:VCALENDAR
