BEGIN:VCALENDAR
VERSION:2.0
PRODID:-//Sabre//Sabre VObject 4.5.8//EN
CALSCALE:GREGORIAN
BEGIN:VEVENT
UID:sabre-vobject-65aae3ac-576b-4995-b5f6-aa2e00967ae6
DTSTAMP:20260425T162731Z
SUMMARY:Tatort Hinterkaifeck mit Fackeln - Öffentliche Führung
DESCRIPTION:https://app.neuburg.com/tatort-hinterkaifeck-mit-fackeln-oeffen
 tliche-fuehrung_id43143
DTSTART;TZID=Europe/Berlin:20260301T174500
DURATION:PT30M
LOCATION:Hinterkaifeck\, \, 86579  Waidhofen
END:VEVENT
END:VCALENDAR
