BEGIN:VCALENDAR
VERSION:2.0
PRODID:-//Sabre//Sabre VObject 4.5.8//EN
CALSCALE:GREGORIAN
BEGIN:VEVENT
UID:sabre-vobject-7e0d5370-ea88-4190-9b06-5b82e0c0b807
DTSTAMP:20260425T181923Z
SUMMARY:Tatort Hinterkaifeck mit Fackeln - Öffentliche Führung
DESCRIPTION:https://app.neuburg.com/tatort-hinterkaifeck-mit-fackeln-oeffen
 tliche-fuehrung_id43142
DTSTART;TZID=Europe/Berlin:20260222T174500
DURATION:PT30M
LOCATION:Hinterkaifeck\, \, 86579  Waidhofen
END:VEVENT
END:VCALENDAR
