BEGIN:VCALENDAR
VERSION:2.0
PRODID:-//Sabre//Sabre VObject 4.5.8//EN
CALSCALE:GREGORIAN
BEGIN:VEVENT
UID:sabre-vobject-49ab7145-de44-4037-83f2-3aa629ed40ce
DTSTAMP:20260425T214949Z
SUMMARY:Stadtführung Schrobenhausen mit Altem Friedhof - Öffentliche Füh
 rung
DESCRIPTION:https://app.neuburg.com/stadtfuehrung-schrobenhausen-mit-altem-
 friedhof-oeffentliche-fuehrung_id43140
DTSTART;TZID=Europe/Berlin:20260208T134500
DURATION:PT30M
LOCATION:86529 Schrobenhausen\, Busbahnhof\, Bürgermeister-Stocker-Ring 47
 \, 86529 Schrobenhausen
END:VEVENT
END:VCALENDAR
