BEGIN:VCALENDAR
VERSION:2.0
PRODID:-//Sabre//Sabre VObject 4.5.8//EN
CALSCALE:GREGORIAN
BEGIN:VEVENT
UID:sabre-vobject-37d5df72-0792-40e0-b4c7-a2a3c1895f24
DTSTAMP:20260425T232436Z
SUMMARY:Tatort Hinterkaifeck Vollmond Führung mit Fackeln - Öffentliche F
 ührung
DESCRIPTION:https://app.neuburg.com/tatort-hinterkaifeck-vollmond-fuehrung-
 mit-fackeln-oeffentliche-fuehrung_id43139
DTSTART;TZID=Europe/Berlin:20260201T174500
DURATION:PT30M
LOCATION:Hinterkaifeck\, \, 86579  Waidhofen
END:VEVENT
END:VCALENDAR
