BEGIN:VCALENDAR
VERSION:2.0
PRODID:-//Sabre//Sabre VObject 4.5.8//EN
CALSCALE:GREGORIAN
BEGIN:VEVENT
UID:sabre-vobject-b3424aad-a9cd-4117-9c88-f49d1761f513
DTSTAMP:20260426T024020Z
SUMMARY:Stadtführung Schrobenhausen mit Altem Friedhof - Öffentliche Füh
 rung
DESCRIPTION:https://app.neuburg.com/stadtfuehrung-schrobenhausen-mit-altem-
 friedhof-oeffentliche-fuehrung_id43136
DTSTART;TZID=Europe/Berlin:20260125T134500
DURATION:PT30M
LOCATION:86529 Schrobenhausen\, Busbahnhof\, Bürgermeister-Stocker-Ring 47
 \, 86529 Schrobenhausen
END:VEVENT
END:VCALENDAR
