BEGIN:VCALENDAR
VERSION:2.0
PRODID:-//Sabre//Sabre VObject 4.5.8//EN
CALSCALE:GREGORIAN
BEGIN:VEVENT
UID:sabre-vobject-8f99b059-5cdd-40e6-99ea-f1a67fe2ecfa
DTSTAMP:20260424T161535Z
SUMMARY:Ensemble del Arte | Werke von Grieg und Haydn
DESCRIPTION:https://app.neuburg.com/ensemble-del-arte-werke-von-grieg-und-h
 aydn_id42514
DTSTART;TZID=Europe/Berlin:20260516T200000
DURATION:PT30M
LOCATION:Kongregationssaal\, Jacob-Balde-Platz\, 86633 Neuburg an der Donau
END:VEVENT
END:VCALENDAR
