BEGIN:VCALENDAR
VERSION:2.0
PRODID:-//Sabre//Sabre VObject 4.5.8//EN
CALSCALE:GREGORIAN
BEGIN:VEVENT
UID:sabre-vobject-8d66acae-47ba-4676-8a38-97f9ccf0cc30
DTSTAMP:20260424T195607Z
SUMMARY:Hase und Igel
DESCRIPTION:https://app.neuburg.com/hase-und-igel_id42267
DTSTART;TZID=Europe/Berlin:20260520T150000
DURATION:PT30M
LOCATION:Stadttheater\, Residenzstraße A67\, 86633 Neuburg an der Donau
END:VEVENT
END:VCALENDAR
