BEGIN:VCALENDAR
VERSION:2.0
PRODID:-//Sabre//Sabre VObject 4.5.8//EN
CALSCALE:GREGORIAN
BEGIN:VEVENT
UID:sabre-vobject-5145657b-b936-48fb-8157-0f5dddda1a48
DTSTAMP:20260424T212440Z
SUMMARY:Hofgartenfest
DESCRIPTION:https://app.neuburg.com/hofgartenfest_id38664
DTSTART;TZID=Europe/Berlin:20260613T150000
DTEND;TZID=Europe/Berlin:20260614T010000
LOCATION:Hofgarten
END:VEVENT
END:VCALENDAR
