BEGIN:VCALENDAR
VERSION:2.0
PRODID:-//Sabre//Sabre VObject 4.5.8//EN
CALSCALE:GREGORIAN
BEGIN:VEVENT
UID:sabre-vobject-4e3d3204-2e5e-4a53-96a3-7e3a0f978b33
DTSTAMP:20260425T023816Z
SUMMARY:Neuburger Volksfest
DESCRIPTION:https://app.neuburg.com/neuburger-volksfest_id36596
DTSTART;TZID=Europe/Berlin:20260725T140000
DURATION:PT30M
LOCATION:Volksfestplatz\, Volksfestplatz\, 86633 Neuburg an der Donau
END:VEVENT
END:VCALENDAR
