BEGIN:VCALENDAR
VERSION:2.0
PRODID:-//Sabre//Sabre VObject 4.5.8//EN
CALSCALE:GREGORIAN
BEGIN:VEVENT
UID:sabre-vobject-45dac03e-1d8c-44fa-82b8-8d417fa07c4e
DTSTAMP:20260425T023816Z
SUMMARY:Neuburger Volksfest
DESCRIPTION:https://app.neuburg.com/neuburger-volksfest_id36595
DTSTART;TZID=Europe/Berlin:20260724T160000
DURATION:PT30M
LOCATION:Volksfestplatz\, Volksfestplatz\, 86633 Neuburg an der Donau
END:VEVENT
END:VCALENDAR
