BEGIN:VCALENDAR
VERSION:2.0
PRODID:-//Sabre//Sabre VObject 4.5.8//EN
CALSCALE:GREGORIAN
BEGIN:VEVENT
UID:sabre-vobject-3ab6a0dd-4f2e-4420-99fd-953039f0ffc2
DTSTAMP:20260424T230911Z
SUMMARY:Unterwegs mit Donaufischer Lenz
DESCRIPTION:https://app.neuburg.com/unterwegs-mit-donaufischer-lenz_id36032
DTSTART;TZID=Europe/Berlin:20260626T190000
DTEND;TZID=Europe/Berlin:20260626T203000
LOCATION:Tourist-Information\, Ottheinrichplatz A 118\, 86633 Neuburg
END:VEVENT
END:VCALENDAR
