BEGIN:VCALENDAR
VERSION:2.0
PRODID:-//Sabre//Sabre VObject 4.5.8//EN
CALSCALE:GREGORIAN
BEGIN:VEVENT
UID:sabre-vobject-0e25fe5e-d0a8-4d4a-9303-e2573b986d06
DTSTAMP:20260425T004812Z
SUMMARY:Nachtwächterführung
DESCRIPTION:https://app.neuburg.com/nachtwaechterfuehrung_id35922
DTSTART;TZID=Europe/Berlin:20260717T203000
DTEND;TZID=Europe/Berlin:20260717T220000
LOCATION:Tourist-Information\, Ottheinrichplatz A 118\, 86633 Neuburg
END:VEVENT
END:VCALENDAR
