BEGIN:VCALENDAR
VERSION:2.0
PRODID:-//Sabre//Sabre VObject 4.5.8//EN
CALSCALE:GREGORIAN
BEGIN:VEVENT
UID:sabre-vobject-4cdd3f5e-2ea8-4ee8-9abb-ce287b8a37ec
DTSTAMP:20260424T193114Z
SUMMARY:Nachtwächterführung
DESCRIPTION:https://app.neuburg.com/nachtwaechterfuehrung_id35919
DTSTART;TZID=Europe/Berlin:20260605T203000
DTEND;TZID=Europe/Berlin:20260605T220000
LOCATION:Tourist-Information\, Ottheinrichplatz A 118\, 86633 Neuburg
END:VEVENT
END:VCALENDAR
