BEGIN:VCALENDAR
VERSION:2.0
PRODID:-//Sabre//Sabre VObject 4.5.8//EN
CALSCALE:GREGORIAN
BEGIN:VEVENT
UID:sabre-vobject-6c80dd72-3d99-430a-b1d8-413e03569b58
DTSTAMP:20260424T161537Z
SUMMARY:Nachtwächterführung
DESCRIPTION:https://app.neuburg.com/nachtwaechterfuehrung_id35918
DTSTART;TZID=Europe/Berlin:20260515T203000
DTEND;TZID=Europe/Berlin:20260515T220000
LOCATION:Tourist-Information\, Ottheinrichplatz A 118\, 86633 Neuburg
END:VEVENT
END:VCALENDAR
