BEGIN:VCALENDAR
VERSION:2.0
PRODID:-//Sabre//Sabre VObject 4.5.8//EN
CALSCALE:GREGORIAN
BEGIN:VEVENT
UID:sabre-vobject-463af8b1-3b8f-4c34-ab57-a13a3cec88b3
DTSTAMP:20260424T123506Z
SUMMARY:Von Hexen\, Heilern & Halunken
DESCRIPTION:https://app.neuburg.com/von-hexen-heilern-halunken_id35912
DTSTART;TZID=Europe/Berlin:20260508T190000
DTEND;TZID=Europe/Berlin:20260508T203000
LOCATION:Tourist-Information\, Ottheinrichplatz A 118\, 86633 Neuburg
END:VEVENT
END:VCALENDAR
