BEGIN:VCALENDAR
VERSION:2.0
PRODID:-//Sabre//Sabre VObject 4.5.8//EN
CALSCALE:GREGORIAN
BEGIN:VEVENT
UID:sabre-vobject-1e695e2c-12b9-4232-91fe-4b40bb601cc3
DTSTAMP:20260424T181555Z
SUMMARY:Fischerstechen auf der Donau
DESCRIPTION:https://app.neuburg.com/fischerstechen-auf-der-donau_id35662
DTSTART;TZID=Europe/Berlin:20260523T130000
DURATION:PT30M
LOCATION:Donaukai\, \, 86633 Neuburg an der Donau
END:VEVENT
END:VCALENDAR
